BEGIN:VCALENDAR
VERSION:2.0
PRODID:-//swoogo.com//NONSGML kigkonsult.se iCalcreator 2.41.90//
CALSCALE:GREGORIAN
UID:30643932-6362-4938-a465-326639326666
BEGIN:VEVENT
UID:ee77af76539442c481fba80a5799821a31106fb3@swoogo.com
DTSTAMP:20260424T201619Z
DESCRIPTION:AFCEA Bethesda's Monthly Breakfast series features panel discus
 sions led by senior-executive government representatives. The goals of the
  event series are to foster better inter-agency communication\, share best
  practices and lessons learned and identify mission-critical IT issues aff
 ecting the federal IT community. With speakers drawn largely from federal 
 civilian agencies\, the panel format offers a compelling snapshot of multi
 ple agency perspectives.
DTSTART:20190219T121500Z
DTEND:20190219T143000Z
LAST-MODIFIED:20260424T201619Z
LOCATION:Bethesda North Marriott Hotel & Conference Center\, 5701 Marinelli
  Rd\, North Bethesda\, MD 20852\, United States
SEQUENCE:0
STATUS:CONFIRMED
SUMMARY:AFCEA Bethesda February 2019 Breakfast
TRANSP:OPAQUE
X-ALT-DESC;FMTTYPE=text/html:<div>AFCEA Bethesda's Monthly Breakfast series
  features panel discussions led by senior-executive government representat
 ives. The goals of the event series are to foster better inter-agency comm
 unication\, share best practices and lessons learned and identify mission-
 critical IT issues affecting the federal IT community. With speakers drawn
  largely from federal civilian agencies\, the panel format offers a compel
 ling snapshot of multiple agency perspectives.</div>
BEGIN:VALARM
UID:36316366-6461-4534-a232-353137396632
ACTION:DISPLAY
DESCRIPTION:AFCEA Bethesda's Monthly Breakfast series features panel discus
 sions led by senior-executive government representatives. The goals of the
  event series are to foster better inter-agency communication\, share best
  practices and lessons learned and identify mission-critical IT issues aff
 ecting the federal IT community. With speakers drawn largely from federal 
 civilian agencies\, the panel format offers a compelling snapshot of multi
 ple agency perspectives.
TRIGGER:-PT15M
END:VALARM
END:VEVENT
END:VCALENDAR
