BEGIN:VCALENDAR
VERSION:2.0
PRODID:-//swoogo.com//NONSGML kigkonsult.se iCalcreator 2.41.90//
CALSCALE:GREGORIAN
UID:30616465-3031-4432-b632-386130313831
BEGIN:VEVENT
UID:bff768c7aea91be241e873f1e10704cf27740f19@swoogo.com
DTSTAMP:20260421T093610Z
DESCRIPTION:The GITEC Summit is a “must attend” conference. If you are an I
 T leader in the government\, industry or academia\, the Summit is the prem
 ier forum to share ideas\, challenges and solutions surrounding the develo
 pment\, implementation\, management and use of information technology for 
 mission critical functions. \n\n  \nWHY CHOOSE GITEC? \n\n	* GITEC consiste
 ntly brings in high level Government agency executives as both speakers an
 d attendees. Past agencies include: DHS\, VA\, DOJ\, SSA\, USDA\, NASA\, O
 PM\, HHS\, State Department\, and many more.\n 	* GITEC has a high Governme
 nt to Industry ratio at their conferences. Typically around 45% to 50% Gov
 ernment.\n\n  \nDRESS CODE: \n\n	* Summit dress code is Business Attire\n 	*
  Monday Night Special Event Dress is casual or business casual\n\n \n\nBeg
 inning with the 25th anniversary in 2009\, GITEC changed its focus to refl
 ect a new era for IT professionals and a new Administration. \n\nIn 2010 G
 ITEC hosted its first 'GITEC Summit' as a replacement for the IPIC confere
 nce series. The GITEC 2010 Summit proved to be a huge success and received
  many praises for the new format. The conference will continue the transfo
 rmation begun in 2010 and renew GITEC's focus on bringing together IT exec
 utives\, leaders and managers from across the federal government and indus
 try.\n\nThe Summits are unique events tailored to provide a senior level e
 xecutive forum for our IT leaders to share areas of mutual interest and co
 ncern. In addition to an extraordinary agenda\, a Solution Center of Exhib
 its is carefully selected from an impressive array of leading edge technol
 ogy companies.\n\nAs the premier IT executive conference\, the GITEC Summi
 t will ensure an environment that fosters invited conversation and comfort
 able networking. GITEC Summit\, as did past IPIC\, attendees represent sen
 ior-level executives from key government agencies and an impressive group 
 of Fortune 500 IT companies.\n
DTSTART:20180422T160000Z
DTEND:20180424T170000Z
LAST-MODIFIED:20260421T093610Z
LOCATION:The Westin Annapolis\, 100 Westgate Circle\, Annapolis\, Maryland 
 21401\, United States
SEQUENCE:0
STATUS:CONFIRMED
SUMMARY:GITEC Summit: Revolution of Solutions 2018
TRANSP:OPAQUE
X-ALT-DESC;FMTTYPE=text/html:<div>\n<p>The GITEC Summit is a “must attend” 
 conference. If you are an IT leader in the government\, industry or academ
 ia\, the Summit is the premier forum to share ideas\, challenges and solut
 ions surrounding the development\, implementation\, management and use of 
 information technology for mission critical functions. </p>\n\n<div> </div
 >\n\n<div><strong>Why Choose GITEC?</strong></div>\n\n<ul><li>GITEC consis
 tently brings in high level Government agency executives as both speakers 
 and attendees. Past agencies include: DHS\, VA\, DOJ\, SSA\, USDA\, NASA\,
  OPM\, HHS\, State Department\, and many more.</li>\n	<li>GITEC has a high 
 Government to Industry ratio at their conferences. Typically around 45% to
  50% Government.</li>\n</ul><div> </div>\n\n<div><strong>Dress Code:</stro
 ng></div>\n\n<ul><li>Summit dress code is Business Attire</li>\n	<li>Monday
  Night Special Event Dress is casual or business casual</li>\n</ul><div>\n
 <p> </p>\n\n<p>Beginning with the 25th anniversary in 2009\, GITEC changed
  its focus to reflect a new era for IT professionals and a new Administrat
 ion. </p>\n\n<p>In 2010 GITEC hosted its first 'GITEC Summit' as a replace
 ment for the IPIC conference series. The GITEC 2010 Summit proved to be a 
 huge success and received many praises for the new format. The conference 
 will continue the transformation begun in 2010 and renew GITEC's focus on 
 bringing together IT executives\, leaders and managers from across the fed
 eral government and industry.</p>\n\n<p>The Summits are unique events tail
 ored to provide a senior level executive forum for our IT leaders to share
  areas of mutual interest and concern. In addition to an extraordinary age
 nda\, a Solution Center of Exhibits is carefully selected from an impressi
 ve array of leading edge technology companies.</p>\n\n<p>As the premier IT
  executive conference\, the GITEC Summit will ensure an environment that f
 osters invited conversation and comfortable networking. GITEC Summit\, as 
 did past IPIC\, attendees represent senior-level executives from key gover
 nment agencies and an impressive group of Fortune 500 IT companies.</p>\n<
 /div>\n</div>
END:VEVENT
END:VCALENDAR
